BEGIN:VCALENDAR
VERSION:2.0
PRODID:-//eventon.com NONSGML v1.0//EN
BEGIN:VEVENT
UID:69e5ea65d5f12
DTSTAMP:20260420T035709
DTSTART:20210710T020000Z
DTEND:20210710T045900Z
TZID:America/Chicago
LOCATION:Bayou Bar 2031 St. Charles Avenue
SUMMARY:Andre Lovett Band Live at Bayou Bar
DESCRIPTION: Nestled on the ground floor of the Pontchartrain Hotel\,  the Bayou Bar is a casual tavern-style bar where music played an integral role in its storied past: both Sinatra and Capote spent many a night imbibing in the Garden District drinking den. Now\,  the cozy bar is thrilled to announce[..]\nhttps://neworleans.riverbeats.life/?post_type=ajde_events&p=30554
URL:https://neworleans.riverbeats.life/?post_type=ajde_events&p=30554
END:VEVENT
END:VCALENDAR