BEGIN:VCALENDAR
VERSION:2.0
PRODID:-//eventon.com NONSGML v1.0//EN
BEGIN:VEVENT
UID:69e5ea4848dc6
DTSTAMP:20260420T035640
DTSTART:20210706T002200Z
DTEND:20210706T002200Z
TZID:America/Chicago
LOCATION:
SUMMARY:ART & A/C Presented by the Helis Foundation: Ogden\,  NOMA\,  Contemporary Arts Center
DESCRIPTION: 10am &#8211; 5pm every day through July 25\,  2021 Beat the heat with Art & A/C presented by The Helis Foundation! As an extension of its “Art for All” program\,  The Helis Foundation has partnered with three New Orleans cultural institutions to provide free days during one of the hottest[..]\nhttps://neworleans.riverbeats.life/?post_type=ajde_events&p=30899
URL:https://neworleans.riverbeats.life/?post_type=ajde_events&p=30899
END:VEVENT
END:VCALENDAR